Workbook

Sheet CONSOLIDADO 
B2: MATRIZ DE REQUISITOS LEGALES Y OTROS REQUISITOS | M2: Código | N2: MAT-EAS-DPR-SIGER-04
M3: Fecha | N3: 45689
M4: Versión | N4: V.01
M5: Revisa | N5: Ingrid Lara
M6: Aprueba | N6: Claudio Acuña
B8: Ítem | C8: Normativa /Titulo | D8: Resultado de cumplimiento global
B9: 1 | C9: Código del Trabajo | D9: ='CÓDIGO DEL TRABAJO'!H66 -> 1
B10: 2 | C10: Ley 21.643 | D10: ='Ley 21.643'!H5 -> 1
B11: 3 | C11: Ley 21.561 | D11: ='Ley 21.156'!H5 -> 1
B12: 4 | C12: Ley 21.156 | D12: ='Ley 21.156'!H5 -> 1
B13: 5 | C13: Ley 21.015 | D13: ='Ley 21015'!H5 -> 1
B14: 6 | C14: Ley 21.012 | D14: ='Ley 21012'!H5 -> 1
B15: 7 | C15: Ley 20.949 | D15: ='Ley 20.949'!H5 -> 1
B16: 8 | C16: Ley 20.607 | D16: ='Ley 20.607'!I5 -> 1
B17: 9 | C17: Ley 20.609 | D17: ='Ley 20.609'!H5 -> 1
B18: 10 | C18: Ley 20.422 | D18: ='Ley 20.422'!H9 -> 1
B19: 11 | C19: Ley 20.123 | D19: ='Ley 20.123'!H20 -> 1
B20: 12 | C20: Ley 20.105 | D20: ='Ley 20.105'!H7 -> 1
B21: 13 | C21: Ley 20.096 | D21: ='Ley 20.096'!H6 -> 1
B22: 14 | C22: Ley 20.005 | D22: ='Ley 20.005'!H11 -> 1
B23: 15 | C23: Ley 19.518 | D23: ='Ley 19.518'!H11 -> 0
B24: 16 | C24: Ley 19.628 | D24: ='Ley 19.628'!H6 -> 1
B25: 17 | C25: Ley 16.744 | D25: ='Ley 16.744'!H17 -> 1
B26: 18 | C26: D.S 594 | D26: ='D.S 594'!H55 -> 0.97254902
B27: 19 | D27: ='Decreto 44 E'!H7 -> 1
B28: 20 | C28: D.S 148 | D28: ='D.S 148'!H20 -> 1
B29: 21 | C29: D.S 123 | D29: ='D.S 123'!H6 -> 1
B30: 22 | C30: D.S 109 | D30: ='D.S 109'!H6 -> 1
B31: 23 | C31: D.S 101 | D31: ='D.S 101'!H6 -> 1
B32: 24 | C32: D.S 97 | D32: ='D.S 97 '!H6 -> 1
B33: 25 | C33: D.S 76 | D33: ='D.S 76'!H14 -> 1
B34: 26 | C34: D.S 67 | D34: ='D.S 67'!H6 -> 1
B35: 27 | C35: D.S 63 | D35: ='D.S 63'!H17 -> 1
B36: 28 | C36: D.S 56 | D36: ='D.S 56'!H18 -> 1
B37: 29 | C37: D.S 47 | D37: ='D.S 47'!H15 -> 1
B38: 30 | C38: Decreto 44 | D38: ='D.S 44'!H74 -> 0.96610169
B39: 31 | C39: D.S 43 | D39: ='D.S 43'!H33 -> 1
B40: 33 | C40: D.S 35 | D40: ='Decreto 35'!H5 -> 1
B41: 34 | C41: D.S 18 | D41: ='D.S 18'!H5 -> 1
B42: 35 | C42: D.S 10 | D42: ='D.S 10'!H25 -> 1
...

Sheet CÓDIGO DEL TRABAJO
B3: Ítem | C3: Normativa /Titulo | D3: Art. Aplicable | E3: Descripción | F3: Evidencia Cumplimiento | G3: Responsable de Cumplimiento | H3: Resultado de evaluación No Cumple 0% Cumple 100% En implementación 50% | I3: Brecha Evidenciada | J3: Plan de Acción de Brechas de Incumplimiento | K3: Responsable | L3: Plazo | M3: Resultado de evaluación No Cumple 0% Cumple 100% En implementación 50% | N3: Nueva acción Correctiva
B4: 1 | C4: Código del trabajo | D4: Art. 2 | E4: Las relaciones laborales deberán siempre fundarse en un trato libre de violencia, compatible con la dignidad de la persona y con perspectiva de género, lo que, para efectos de este Código, implica la adopción de medidas tendientes a promover la igualdad y a erradicar la discriminación basada en dicho motivo. Son contrarias a lo anterior, entre otras conductas, las siguientes: a) El acoso sexual, entendiéndose por tal el que una persona realice, en forma indebida, por cualquier medio, requerimientos de carácter sexual, no consentidos por quien los recibe y que amenacen o perjudiquen su situación laboral o sus oportunidades en el empleo. b) El acoso laboral, entendiéndose por tal toda conducta que constituya agresión u hostigamiento ejercida por el empleador o por uno o más trabajadores, en contra de otro u otros trabajadores, por cualquier medio, ya sea que se manifieste una sola vez o de manera reiterada, y que tenga como resultado para el o los afectados su menoscabo, maltrato o humillación, o bien que amenace o perjudique su situación laboral o sus oportunidades en el empleo. c) La violencia en el trabajo ejercida por terceros ajenos a la relación laboral, entendiéndose por tal aquellas conductas que afecten a las trabajadoras y a los trabajadores, con ocasión de la prestación de servicios, por parte de clientes, proveedores o usuarios, entre otros.". | F4: RIOHS 2025 | G4: RRHH | H4: 1 | M4: N/A
B5: 2 | C5: Código del trabajo | D5: Art. 4 | E5: Para los efectos previstos en este Código, se presume de derecho que representa al empleador y que en tal carácter obliga a éste con los trabajadores, el gerente, el administrador, el capitán de barco y, en general, la persona que ejerce habitualmente funciones de dirección o administración por cuenta o representación de una persona natural o jurídica. Las modificaciones totales o parciales relativas al dominio, posesión o mera tenencia de la empresa no alterarán los derechos y obligaciones de los trabajadores emanados de sus contratos individuales o de los instrumentos colectivos de trabajo, que mantendrán su vigencia y continuidad con el o los nuevos empleadores. | F5: Contrato de trabajo | G5: RRHH | H5: 1 | M5: N/A
B6: 3 | C6: Código del trabajo | D6: Art. 5 | E6: El ejercicio de las facultades que la ley le reconoce al empleador, tiene como límite el respeto a las garantías constitucionales de los trabajadores, en especial cuando pudieran afectar la intimidad, la vida privada o la honra de éstos. Los derechos establecidos por las leyes laborales son irrenunciables, mientras subsista el contrato de trabajo. Los contratos individuales y los instrumentos colectivos de trabajo podrán ser modificados, por mutuo consentimiento, en aquellas materias en que las partes hayan podido convenir libremente. | F6: Contrato de trabajo y anexos según aplique | G6: RRHH | H6: 1 | M6: N/A
B7: 4 | C7: Código del trabajo | D7: Art. 6 | E7: El contrato de trabajo puede ser individual o colectivo. El contrato es individual cuando se celebra entre un empleador y un trabajador. Es colectivo el celebrado por uno o más empleadores con una o más organizaciones sindicales o con trabajadores que se unan para negociar colectivamente, o con unos y otros, con el objeto de establecer condiciones comunes de trabajo y de remuneraciones por un tiempo determinado. | F7: Contrato de trabajo | G7: RRHH | H7: 1 | M7: N/A
B8: 5 | C8: Código del trabajo | D8: Art. 7 | E8: Contrato individual de trabajo es una convención por la cual el empleador y el trabajador se obligan recíprocamente, éste a prestar servicios personales bajo dependencia y subordinación del primero, y aquél a pagar por estos servicios una remuneración determinada. | F8: Contrato de trabajo | G8: RRHH | H8: 1 | M8: N/A
B9: 6 | C9: Código del trabajo | D9: Art. 9-18 | E9: El contrato de trabajo es consensual; deberá constar por escrito en los plazos a que se refiere el inciso siguiente, y firmarse por ambas partes en dos ejemplares, quedando uno en poder de cada contratante. El empleador que no haga constar por escrito el contrato dentro del plazo de quince días de incorporado el trabajador, o de cinco días si se trata de contratos por obra, trabajo o servicio determinado o de duración inferior a treinta días, será sancionado con una multa a beneficio fiscal de una a cinco unidades tributarias mensuales. Si el trabajador se negare a firmar, el empleador enviará el contrato a la respectiva Inspección del Trabajo para que ésta requiera la firma. Si el trabajador insistiere en su actitud ante dicha Inspección, podrá ser despedido, sin derecho a indemnización, a menos que pruebe haber sido contratado en condiciones distintas a las consignadas en el documento escrito. Si el empleador no hiciere uso del derecho que se le confiere en el inciso anterior, dentro del respectivo plazo que se indica en el inciso segundo, la falta de contrato escrito hará presumir legalmente que son estipulaciones del contrato las que declare el trabajador. El empleador, en todo caso, estará obligado a mantener en el lugar de trabajo, un ejemplar del contrato, y, en su caso, uno del finiquito en que conste el término de la relación laboral, firmado por las partes. Considerar todo lo descrito en los art. 10 al 18, referente a contratos de trabajo. | F9: Contrato de trabajo | G9: RRHH | H9: 1 | M9: N/A
B10: 7 | C10: Código del trabajo | D10: Art. 19 | E10: El ochenta y cinco por ciento, a lo menos, de los trabajadores que sirvan a un mismo empleador será de nacionalidad chilena. Se exceptúa de esta disposición el empleador que no ocupa más de veinticinco trabajadores. | F10: Nómina trabajadores con un 85% de chilenos. Contratación de 15% máximo de dotación de extranjeros | G10: RRHH | H10: 1 | M10: N/A
B11: 8 | C11: Código del trabajo | D11: Art. 22 | E11: La duración de la jornada ordinaria de trabajo no excederá de cuarenta horas semanales. Quedarán excluidos de la limitación de jornada de trabajo los trabajadores que presten servicios a distintos empleadores; los gerentes, administradores, apoderados con facultades de administración y todos aquellos que trabajen sin fiscalización superior inmediata; los contratados de acuerdo con este Código para prestar servicios en su domicilio o en un lugar libremente elegido por ellos; los agentes comisionistas y de seguros, vendedores viajantes, cobradores y demás similares que no ejerzan sus funciones en el local del establecimiento. También quedarán excluidos de la limitación de jornada de trabajo los trabajadores que se desempeñen a bordo de naves pesqueras. Asimismo, quedan excluidos de la limitación de jornada, los trabajadores contratados para que presten sus servicios preferentemente fuera del lugar o sitio de funcionamiento de la empresa, mediante la utilización de medios tecnológicos, informáticos o de telecomunicaciones. La jornada de trabajo de los deportistas profesionales y de los trabajadores que desempeñan actividades conexas se organizará por el cuerpo técnico y la entidad deportiva profesional correspondiente, de acuerdo a la naturaleza de la actividad deportiva y a límites compatibles con la salud de los deportistas, y no les será aplicable lo establecido en el inciso primero de este artículo. NOTA 2: La modificación introducida por la ley 21561, publicada el 26.04.2023, a la jornada de trabajo referida en el presente artículo, se implementará de forma gradual, reduciéndose de cuarenta y cinco horas semanales a cuarenta y cuatro horas al primer año; cuarenta y dos horas al tercer año y cuarenta horas al quinto año, contados desde la publicación de la ley en el Diario Oficial. | F11: *Contrato de trabajo *Implementación gradual | G11: RRHH | H11: 1 | M11: N/A
B12: 9 | C12: Código del trabajo | D12: Art. 24 | E12: El empleador podrá extender la jornada ordinaria de los dependientes del comercio hasta en dos horas diarias durante nueve días anteriores a navidad, distribuidos dentro de los últimos quince días previos a esta festividad. En este caso las horas que excedan el máximo señalado en el inciso primero del artículo 22, o la jornada convenida, si fuere menor se pagarán como extraordinarias. Cuando el empleador ejerciere la facultad prevista en el inciso anterior no procederá pactar horas extraordinarias. | F12: *Contrato de trabajo | G12: RRHH | H12: 1 | M12: N/A
B13: 10 | C13: Código del trabajo | D13: Art. 27 | E13: Los trabajadores madres y padres de niños y niñas de hasta doce años, y las personas que tengan el cuidado personal de éstos, tendrán derecho a una banda de dos horas en total, dentro de la que podrán anticipar o retrasar hasta en una hora el comienzo de sus labores, lo que determinará también el horario de salida al final de la jornada. Para ejercer este derecho el trabajador deberá entregar al empleador el respectivo certificado de nacimiento o la sentencia que le otorgue el cuidado personal de un niño o niña. El empleador no podrá negarse sino cuando la empresa funcione en un horario que no permita anticipar o postergar la jornada de trabajo, o por la naturaleza de los servicios prestados por el trabajador, como en el caso de funciones o labores de atención de público, o que sean necesarias para la realización de los servicios de otros trabajadores, o de atención de servicios de urgencia, trabajo por turnos, guardias, o similares, en tanto requieran que el trabajador efectivamente se encuentre en su puesto a la hora específica señalada en el contrato de trabajo o en el reglamento interno. | F13: *Contrato de trabajo o * RIOHS | G13: RRHH | H13: 1 | M13: N/A
B14: 11 | C14: Código del trabajo | D14: Art. 29 | E14: Podrá excederse la jornada ordinaria, pero en la medida indispensable para evitar perjuicios en la marcha normal del establecimiento o faena, cuando sobrevengan fuerza mayor o caso fortuito, o cuando deban impedirse accidentes o efectuarse arreglos o reparaciones impostergables en las maquinarias o instalaciones. Las horas trabajadas en exceso se pagarán como extraordinarias. | F14: *Contrato de trabajo, anexo de contrato o * RIOHS | G14: RRHH | H14: 1 | M14: N/A
B15: 12 | C15: Código del trabajo | D15: Art. 33 | E15: Para los efectos de controlar la asistencia y determinar las horas de trabajo, sean ordinarias o extraordinarias, el empleador llevará un registro que consistirá en un libro de asistencia del personal o en un reloj control con tarjetas de registro. Cuando no fuere posible aplicar las normas previstas en el inciso precedente, o cuando su aplicación importare una difícil fiscalización, la Dirección del Trabajo, de oficio o a petición de parte, podrá establecer y regular, mediante resolución fundada, un sistema especial de control de las horas de trabajo y de la determinación de las remuneraciones correspondientes al servicio prestado. Este sistema será uniforme para una misma actividad. | F15: Sistema de reloj control | G15: RRHH | H15: 1 | M15: N/A
... B65: 63 | C65: Código del trabajo | D65: Art. 211 J | E65: Los menores de 18 años y las mujeres no podrán llevar, transportar, cargar, arrastrar ni empujar manualmente, y sin ayuda mecánica, cargas superiores a 20 kilogramos. Para estos trabajadores, el empleador deberá implementar medidas de seguridad y mitigación, tales como rotación de trabajadores, disminución de las alturas de levantamiento o aumento de la frecuencia con que se manipula la carga. El detalle de la implementación de dichas medidas estará contenido en la Guía Técnica para la Evaluación y Control de los Riesgos Asociados al Manejo o Manipulación Manual de Carga. | F65: Aplicación del protocolo MMC y RIOSH | G65: PREVENCIÓN DE RIESGOS | H65: 1 | M65: N/A
F66: Porcentaje total de cumplimiento | H66: =AVERAGE(H4:H65) -> 1

Sheet Ley 21.643
B3: Ítem | C3: Normativa /Titulo | D3: Art. Aplicable | E3: Descripción | F3: Evidencia Cumplimiento | G3: Responsable de Cumplimiento | H3: Resultado de evaluación No Cumple 0% Cumple 100% En implementación 50% | I3: Brecha Evidenciada | J3: Plan de Acción de Brechas de Incumplimiento | K3: Responsable | L3: Plazo | M3: Resultado de evaluación No Cumple 0% Cumple 100% En implementación 50% | N3: Nueva acción Correctiva
B4: 1 | C4: Ley 21.643 "MODIFICA EL CÓDIGO DEL TRABAJO Y OTROS CUERPOS LEGALES, EN MATERIA DE PREVENCIÓN, INVESTIGACIÓN Y SANCIÓN DEL ACOSO LABORAL, SEXUAL O DE VIOLENCIA EN EL TRABAJO (LEY KARIN)" | D4: Todo el documento | E4: Los empleadores deberán elaborar y poner a disposición de las trabajadoras y de los trabajadores un protocolo de prevención del acoso sexual, laboral y violencia en el trabajo, a través de los organismos administradores de la ley N° 16.744. Los empleadores tendrán el deber de informar semestralmente los canales que mantiene la empresa para la recepción de denuncias sobre incumplimientos relativos a la prevención, investigación y sanción del acoso sexual, laboral y la violencia en el trabajo, así como las instancias estatales para denunciar cualquier incumplimiento a la normativa laboral y para acceder a las prestaciones en materia de seguridad social. | F4: Código de Ética, RIOHS | G4: RRHH | H4: 1 | M4: N/A
F5: Porcentaje total de cumplimiento | H5: =AVERAGE(H4:H4) -> 1

Sheet Ley 21.561
B3: Ítem | C3: Normativa /Titulo | D3: Art. Aplicable | E3: Descripción | F3: Evidencia Cumplimiento | G3: Responsable de Cumplimiento | H3: Resultado de evaluación No Cumple 0% Cumple 100% En implementación 50% | I3: Brecha Evidenciada | J3: Plan de Acción de Brechas de Incumplimiento | K3: Responsable | L3: Plazo | M3: Resultado de evaluación No Cumple 0% Cumple 100% En implementación 50% | N3: Nueva acción Correctiva
B4: 1 | C4: Ley 21.561 "MODIFICA EL CÓDIGO DEL TRABAJO CON EL OBJETO DE REDUCIR LA JORNADA LABORAL (LEY 40 HORAS)" | D4: Todo el documento | E4: La duración de la jornada ordinaria de trabajo no excederá de cuarenta horas semanales. Quedarán excluidos de la limitación de jornada de trabajo los trabajadores que presten servicios a distintos empleadores; los gerentes, administradores, apoderados con facultades de administración y todos aquellos que trabajen sin fiscalización superior inmediata; los contratados de acuerdo con este Código para prestar servicios en su domicilio o en un lugar libremente elegido por ellos; los agentes comisionistas y de seguros, vendedores viajantes, cobradores y demás similares que no ejerzan sus funciones en el local del establecimiento. También quedarán excluidos de la limitación de jornada de trabajo los trabajadores que se desempeñen a bordo de naves pesqueras. Asimismo, quedan excluidos de la limitación de jornada, los trabajadores contratados para que presten sus servicios preferentemente fuera del lugar o sitio de funcionamiento de la empresa, mediante la utilización de medios tecnológicos, informáticos o de telecomunicaciones. La jornada de trabajo de los deportistas profesionales y de los trabajadores que desempeñan actividades conexas se organizará por el cuerpo técnico y la entidad deportiva profesional correspondiente, de acuerdo a la naturaleza de la actividad deportiva y a límites compatibles con la salud de los deportistas, y no les será aplicable lo establecido en el inciso primero de este artículo. NOTA 2: La modificación introducida por la ley 21561, publicada el 26.04.2023, a la jornada de trabajo referida en el presente artículo, se implementará de forma gradual, reduciéndose de cuarenta y cinco horas semanales a cuarenta y cuatro horas al primer año; cuarenta y dos horas al tercer año y cuarenta horas al quinto año, contados desde la publicación de la ley en el Diario Oficial. | F4: Implementación progresiva Contratos de trabajo, RIOS | G4: RRHH | H4: 1 | M4: N/A
F5: Porcentaje total de cumplimiento | H5: =AVERAGE(H4:H4) -> 1

Sheet Ley 21.156
B3: Ítem | C3: Normativa /Titulo | D3: Art. Aplicable | E3: Descripción | F3: Evidencia Cumplimiento | G3: Responsable de Cumplimiento | H3: Resultado de evaluación No Cumple 0% Cumple 100% En implementación 50% | I3: Brecha Evidenciada | J3: Plan de Acción de Brechas de Incumplimiento | K3: Responsable | L3: Plazo | M3: Resultado de evaluación No Cumple 0% Cumple 100% En implementación 50% | N3: Nueva acción Correctiva
B4: 1 | C4: LEY 21156 ESTABLECE LA OBLIGACIÓN DE DISPONER DE DESFIBRILADORES EXTERNOS AUTOMÁTICOS PORTÁTILES EN LOS ESTABLECIMIENTOS Y RECINTOS QUE INDICA MINISTERIO DE SALUD | D4: Artículo único | E4: ESTABLECE LA OBLIGACIÓN DE DISPONER DE DESFIBRILADORES EXTERNOS AUTOMÁTICOS PORTÁTILES EN LOS ESTABLECIMIENTOS Y RECINTOS QUE INDICA | F4: 1 desfibrilador por centro de trabajo en conformidad con la ley | G4: Prevención de Riesgos | H4: 1 | M4: N/A
F5: Porcentaje total de cumplimiento | H5: =AVERAGE(H4) -> 1

Sheet Ley 21015
B3: Ítem | C3: Normativa /Titulo | D3: Art. Aplicable | E3: Descripción | F3: Evidencia Cumplimiento | G3: Responsable de Cumplimiento | H3: Resultado de evaluación No Cumple 0% Cumple 100% En implementación 50% | I3: Brecha Evidenciada | J3: Plan de Acción de Brechas de Incumplimiento | K3: Responsable | L3: Plazo | M3: Resultado de evaluación No Cumple 0% Cumple 100% En implementación 50% | N3: Nueva acción Correctiva
B4: 1 | C4: Ley 21.015 Ley de Inclusión Laboral | D4: Todo el documento | E4: Artículo 157 bis.- Las empresas de 100 o más trabajadores deberán contratar o mantener contratados, según corresponda, al menos el 1% de personas con discapacidad o que sean asignatarias de una pensión de invalidez de cualquier régimen previsional, en relación al total de sus trabajadores. | F4: Inclusión del 1% de trabajadores con discapacidad Contratos de trabajo | G4: RRHH | H4: 1 | M4: N/A
F5: Porcentaje total de cumplimiento | H5: =AVERAGE(H4) -> 1

Sheet Ley 21012
B3: Ítem | C3: Normativa /Titulo | D3: Art. Aplicable | E3: Descripción | F3: Evidencia de cumplimiento | G3: Responsable de Cumplimiento | H3: Resultado de evaluación No Cumple 0% Cumple 100% En implementación 50% | I3: Brecha Evidenciada | J3: Plan de Acción de Brechas de Incumplimiento | K3: Responsable | L3: Plazo | M3: Resultado de evaluación No Cumple 0% Cumple 100% En implementación 50% | N3: Nueva acción Correctiva
B4: 1 | C4: Ley 21.012; garantiza seguridad de trabajadores en situaciones de riesgo y emergencia. | D4: Todo el documento | E4: "Artículo único.- Agregase en el Código del Trabajo, después del artículo 184, el siguiente artículo 184 bis: "Artículo 184 bis.- Sin perjuicio de lo establecido en el artículo precedente, cuando en el lugar de trabajo sobrevenga un riesgo grave e inminente para la vida o salud de los trabajadores, el empleador deberá: a) Informar inmediatamente a todos los trabajadores afectados sobre la existencia del mencionado riesgo, así como las medidas adoptadas para eliminarlo o atenuarlo. b) Adoptar medidas para la suspensión inmediata de las faenas afectadas y la evacuación de los trabajadores, en caso que el riesgo no se pueda eliminar o atenuar. Con todo, el trabajador tendrá derecho a interrumpir sus labores y, de ser necesario, abandonar el lugar de trabajo cuando considere, por motivos razonables, que continuar con ellas implica un riesgo grave e inminente para su vida o salud. El trabajador que interrumpa sus labores deberá dar cuenta de ese hecho al empleador dentro del más breve plazo, el que deberá informar de la suspensión de las mismas a la Inspección del Trabajo respectiva. Los trabajadores no podrán sufrir perjuicio o menoscabo alguno derivado de la adopción de las medidas señaladas en este artículo, y podrán siempre ejercer la acción contenida en el Párrafo 6° del Capítulo II del Título I del Libro V del Código del Trabajo. En caso que la autoridad competente ordene la evacuación de los lugares afectados por una emergencia, catástrofe o desastre, el empleador deberá suspender las labores de forma inmediata y proceder a la evacuación de los trabajadores. La reanudación de las labores sólo podrá efectuarse cuando se garanticen condiciones seguras y adecuadas para la prestación de los servicios. Corresponderá a la Dirección del Trabajo fiscalizar el cumplimiento de lo dispuesto en este artículo. | F4: Plan de emergencia Plan de gestión de riesgos de desastres. | G4: PREVENCION DE RIESGOS | H4: 1 | M4: N/A
F5: Porcentaje total de cumplimiento | H5: =AVERAGE(H4) -> 1

Sheet Ley 20.949
B3: Ítem | C3: Normativa /Titulo | D3: Art. Aplicable | E3: Descripción | F3: Evidencia Cumplimiento | G3: Responsable de Cumplimiento | H3: Resultado de evaluación No Cumple 0% Cumple 100% En implementación 50% | I3: Brecha Evidenciada | J3: Plan de Acción de Brechas de Incumplimiento | K3: Responsable | L3: Plazo | M3: Resultado de evaluación No Cumple 0% Cumple 100% En implementación 50% | N3: Nueva acción Correctiva
B4: 1 | C4: Ley 20.949 REGULA EL PESO MÁXIMO DE CARGA HUMANA | D4: Todo el documento | E4: Introdúcense las siguientes modificaciones en el Código del Trabajo: 1. Sustitúyese el artículo 211-H por el siguiente: "Artículo 211-H.- Si la manipulación manual es inevitable y las ayudas mecánicas no pueden usarse, no se permitirá que se opere con cargas superiores a 25 kilogramos. Esta carga será modificada en la medida que existan otros factores agravantes, caso en el cual, la manipulación deberá efectuarse en conformidad a lo dispuesto en el decreto supremo Nº 63, del Ministerio del Trabajo y Previsión Social, del año 2005, que aprueba reglamento para la aplicación de la ley Nº 20.001, que regula el peso máximo de carga humana, y en la Guía Técnica para la Evaluación y Control de los Riesgos Asociados al Manejo o Manipulación Manual de Carga.". 2. Reemplazase el artículo 211-J por el que sigue: "Artículo 211-J.- Los menores de 18 años y las mujeres no podrán llevar, transportar, cargar, arrastrar ni empujar manualmente, y sin ayuda mecánica, cargas superiores a 20 kilogramos. Para estos trabajadores, el empleador deberá implementar medidas de seguridad y mitigación, tales como rotación de trabajadores, disminución de las alturas de levantamiento o aumento de la frecuencia con que se manipula la carga. El detalle de la implementación de dichas medidas estará contenido en la Guía Técnica para la Evaluación y Control de los Riesgos Asociados al Manejo o Manipulación Manual de Carga.". | F4: Protocolo MMC | G4: PREVENCION DE RIESGOS | H4: 1 | M4: N/A
F5: Porcentaje total de cumplimiento | H5: =AVERAGE(H4:H4) -> 1

Sheet Ley 20.607
B3: Ítem | C3: Normativa /Titulo | D3: Art. Aplicable | E3: Descripción | F3: Evidencia Cumplimiento | G3: Responsable de Cumplimiento | H3: Resultado de evaluación No Cumple 0% Cumple 100% En implementación 50% | I3: Brecha Evidenciada | J3: Plan de Acción de Brechas de Incumplimiento | K3: Responsable | L3: Plazo | M3: Resultado de evaluación No Cumple 0% Cumple 100% En implementación 50% | N3: Nueva acción Correctiva
B4: 1 | C4: Ley 20607 Firma electrónica MODIFICA EL CÓDIGO DEL TRABAJO, SANCIONANDO LAS PRÁCTICAS DE ACOSO LABORAL | D4: Art. 1 | E4: Introdúcense las siguientes modificaciones en el Código del Trabajo: 1) Agrégase, la siguiente oración: "Asimismo, es contrario a la dignidad de la persona el acoso laboral, entendiéndose por tal toda conducta que constituya agresión u hostigamiento reiterados, ejercida por el empleador o por uno o más trabajadores, en contra de otro u otros trabajadores, por cualquier medio, y que tenga como resultado para el o los afectados su menoscabo, maltrato o humillación, o bien que amenace o perjudique su situación laboral o sus oportunidades en el empleo.". 2) En el número 1) del artículo 160: c) Agregase la siguiente letra f) nueva: "f) Conductas de acoso laboral.". | F4: Código de Ética | G4: RRHH | H4: RRHH | I4: 1 | N4: N/A
F5: Porcentaje total de cumplimiento | I5: =AVERAGE(I4) -> 1

Sheet Ley 20.609
B3: Ítem | C3: Normativa /Titulo | D3: Art. Aplicable | E3: Descripción | F3: Evidencia Cumplimiento | G3: Responsable de Cumplimiento | H3: Resultado de evaluación No Cumple 0% Cumple 100% En implementación 50% | I3: Brecha Evidenciada | J3: Plan de Acción de Brechas de Incumplimiento | K3: Responsable | L3: Plazo | M3: Resultado de evaluación No Cumple 0% Cumple 100% En implementación 50% | N3: Nueva acción Correctiva
B4: 1 | C4: Ley 20609 ESTABLECE MEDIDAS CONTRA LA DISCRIMINACIÓN | D4: Art. 1 | E4: Propósito de la ley. Esta ley tiene por objetivo fundamental instaurar un mecanismo judicial que permita restablecer eficazmente el imperio del derecho toda vez que se cometa un acto de discriminación arbitraria. | F4: Código de Ética | G4: RRHH | H4: 1 | M4: N/A
F5: Porcentaje total de cumplimiento | H5: =AVERAGE(H4:H4) -> 1

Sheet Ley 20.422
B3: Ítem | C3: Normativa /Titulo | D3: Art. Aplicable | E3: Descripción | F3: Evidencia Cumplimiento | G3: Responsable de Cumplimiento | H3: Resultado de evaluación No Cumple 0% Cumple 100% En implementación 50% | I3: Brecha Evidenciada | J3: Plan de Acción de Brechas de Incumplimiento | K3: Responsable | L3: Plazo | M3: Resultado de evaluación No Cumple 0% Cumple 100% En implementación 50% | N3: Nueva acción Correctiva
B4: 1 | C4: Ley 20422 Firma electrónica ESTABLECE NORMAS SOBRE IGUALDAD DE OPORTUNIDADES E INCLUSIÓN SOCIAL DE PERSONAS CON DISCAPACIDAD | D4: Art. 1 | E4: El objeto de esta ley es asegurar el derecho a la igualdad de oportunidades de las personas con discapacidad, con el fin de obtener su plena inclusión social, asegurando el disfrute de sus derechos y eliminando cualquier forma de discriminación fundada en la discapacidad. | F4: Código de ética | G4: RRHH | H4: 1 | M4: N/A
B5: 2 | C5: Ley 20422 Firma electrónica ESTABLECE NORMAS SOBRE IGUALDAD DE OPORTUNIDADES E INCLUSIÓN SOCIAL DE PERSONAS CON DISCAPACIDAD | D5: Art. 5 | E5: Persona con discapacidad es aquella que teniendo una o más deficiencias físicas, mentales, sea por causa psíquica o intelectual, o sensoriales, de carácter temporal o permanente, al interactuar con diversas barreras presentes en el entorno, ve impedida o restringida su participación plena y efectiva en la sociedad, en igualdad de condiciones con las demás. | F5: Código de ética | G5: RRHH | H5: 1 | M5: N/A
B6: 3 | C6: Ley 20422 Firma electrónica ESTABLECE NORMAS SOBRE IGUALDAD DE OPORTUNIDADES E INCLUSIÓN SOCIAL DE PERSONAS CON DISCAPACIDAD | D6: Art. 19 | E6: Prevención de la discapacidad es toda acción o medida, pública o privada, que tenga por finalidad impedir o evitar que una persona experimente una deficiencia que restrinja su participación o limite su capacidad de ejercer una o más actividades esenciales de la vida diaria, así como impedir que ésta llegue a ser permanente. La prevención siempre considerará el entorno económico, social, político o cultural que puede agravar o atenuar la deficiencia de que se trate. | F6: RIOHS | G6: RRHH | H6: 1 | M6: N/A
B7: 4 | C7: Ley 20422 Firma electrónica ESTABLECE NORMAS SOBRE IGUALDAD DE OPORTUNIDADES E INCLUSIÓN SOCIAL DE PERSONAS CON DISCAPACIDAD | D7: Art. 20 | E7: Las medidas, planes y programas de prevención se adoptarán en consideración a los factores de riesgo de discapacidad, en especial, enfermedades agudas y crónicas, lesiones, accidentes viales, laborales y de cualquier otro tipo, violencia, problemas de calidad ambiental, sedentarismo, abuso del alcohol o las drogas, tabaquismo, desórdenes nutricionales, maltrato infantil, condiciones sanitarias deficientes o estrés. | F7: Programa de atención al colaborador | G7: RRHH | H7: 1 | M7: N/A
B8: 5 | C8: Ley 20422 Firma electrónica ESTABLECE NORMAS SOBRE IGUALDAD DE OPORTUNIDADES E INCLUSIÓN SOCIAL DE PERSONAS CON DISCAPACIDAD | D8: Art. 31 | E8: Los establecimientos comerciales, industriales y de servicios, públicos o privados; los que exhiban espectáculos artísticos, culturales o deportivos; los edificios destinados a un uso que implique la concurrencia de público, y los espacios de uso público que cuenten con estacionamientos para vehículos, reservarán un número suficiente de ellos para el uso de las personas con discapacidad, conforme a las disposiciones de la Ordenanza General de Urbanismo y Construcciones. Corresponderá a la municipalidad respectiva velar por el adecuado cumplimiento de esta obligación. | F8: Permiso municipal | G8: Administración de local | H8: 1 | M8: N/A
F9: Porcentaje total de cumplimiento | H9: =AVERAGE(H4:H8) -> 1

Sheet Ley 20.123
B3: Ítem | C3: Normativa /Titulo | D3: Art. Aplicable | E3: Descripción | F3: Evidencia Cumplimiento | G3: Responsable de Cumplimiento | H3: Resultado de evaluación No Cumple 0% Cumple 100% En implementación 50% | I3: Brecha Evidenciada | J3: Plan de Acción de Brechas de Incumplimiento | K3: Responsable | L3: Plazo | M3: Resultado de evaluación No Cumple 0% Cumple 100% En implementación 50% | N3: Nueva acción Correctiva
B4: 1 | C4: Ley 20.123 REGULA TRABAJO EN REGIMEN DE SUBCONTRATACION, EL FUNCIONAMIENTO DE LAS EMPRESAS DE SERVICIOS TRANSITORIOS Y EL CONTRATO DE TRABAJO DE SERVICIOS TRANSITORIOS | D4: Art.183-B | E4: La empresa principal será solidariamente responsable de las obligaciones laborales y previsionales de dar que afecten a los contratistas en favor de los trabajadores de éstos, incluidas las eventuales indemnizaciones legales que correspondan por término de la relación laboral. Tal responsabilidad estará limitada al tiempo o período durante el cual el o los trabajadores prestaron servicios en régimen de subcontratación para la empresa principal. En los mismos términos, el contratista será solidariamente responsable de las obligaciones que afecten a sus subcontratistas, a favor de los trabajadores de éstos. La empresa principal responderá de iguales obligaciones que afecten a los subcontratistas, cuando no pudiere hacerse efectiva la responsabilidad a que se refiere el inciso siguiente. El trabajador, al entablar la demanda en contra de su empleador directo, podrá hacerlo en contra de todos aquellos que puedan responder de sus derechos, en conformidad a las normas de este Párrafo. En los casos de construcción de edificaciones por un precio único prefijado, no procederán estas responsabilidades cuando quien encargue la obra sea una persona natural. | F4: Reglamento Especial para Empresas Contratistas y Subcontratistas | G4: Soporte Operativo | H4: 1 | M4: N/A
B5: 2 | C5: Ley 20.123 REGULA TRABAJO EN REGIMEN DE SUBCONTRATACION, EL FUNCIONAMIENTO DE LAS EMPRESAS DE SERVICIOS TRANSITORIOS Y EL CONTRATO DE TRABAJO DE SERVICIOS TRANSITORIOS | D5: Art. 183-C | E5: La empresa principal, cuando así lo solicite, tendrá derecho a ser informada por los contratistas sobre el monto y estado de cumplimiento de las obligaciones laborales y previsionales que a éstos correspondan respecto a sus trabajadores, como asimismo de igual tipo de obligaciones que tengan los subcontratistas con sus trabajadores. El mismo derecho tendrán los contratistas respecto de sus subcontratistas. El monto y estado de cumplimiento de las obligaciones laborales y previsionales a que se refiere el inciso anterior, deberá ser acreditado mediante certificados emitidos por la respectiva Inspección del Trabajo, o bien por medios idóneos que garanticen la veracidad de dicho monto y estado de cumplimiento. El Ministerio del Trabajo y Previsión Social deberá dictar, dentro de un plazo de 90 días, un reglamento que fije el procedimiento, plazo y efectos con que la Inspección del Trabajo respectiva emitirá dichos certificados. Asimismo, el reglamento definirá la forma o mecanismos a través de los cuales las entidades o instituciones competentes podrán certificar debidamente, por medios idóneos, el cumplimiento de obligaciones laborales y previsionales de los contratistas respecto de sus trabajadores. En el caso que el contratista o subcontratista no acredite oportunamente el cumplimiento íntegro de las obligaciones laborales y previsionales en la forma señalada, la empresa principal podrá retener de las obligaciones que tenga a favor de aquél o aquéllos, el monto de que es responsable en conformidad a este Párrafo. El mismo derecho tendrá el contratista respecto de sus subcontratistas. Si se efectuara dicha retención, quien la haga estará obligado a pagar con ella al trabajador o institución previsional acreedora. | F5: Reglamento Especial para Empresas Contratistas y Subcontratistas | G5: Soporte Operativo | H5: 1 | M5: N/A
B6: 3 | C6: Ley 20.123 REGULA TRABAJO EN REGIMEN DE SUBCONTRATACION, EL FUNCIONAMIENTO DE LAS EMPRESAS DE SERVICIOS TRANSITORIOS Y EL CONTRATO DE TRABAJO DE SERVICIOS TRANSITORIOS | D6: Art. 183-D | E6: Si la empresa principal hiciere efectivo el derecho a ser informada y el derecho de retención a que se refieren los incisos primero y tercero del artículo anterior, responderá subsidiariamente de aquellas obligaciones laborales y previsionales que afecten a los contratistas y subcontratistas en favor de los trabajadores de éstos, incluidas las eventuales indemnizaciones legales que correspondan por el término de la relación laboral. Tal responsabilidad estará limitada al tiempo o período durante el cual el o los trabajadores del contratista o subcontratista prestaron servicios en régimen de subcontratación para el dueño de la obra, empresa o faena. Igual responsabilidad asumirá el contratista respecto de las obligaciones que afecten a sus subcontratistas, a favor de los trabajadores de éstos. | F6: Reglamento Especial para Empresas Contratistas y Subcontratistas | G6: Soporte Operativo | H6: 1 | M6: N/A
B7: 4 | C7: Ley 20.123 REGULA TRABAJO EN REGIMEN DE SUBCONTRATACION, EL FUNCIONAMIENTO DE LAS EMPRESAS DE SERVICIOS TRANSITORIOS Y EL CONTRATO DE TRABAJO DE SERVICIOS TRANSITORIOS | D7: Art. 183-E | E7: Sin perjuicio de las obligaciones de la empresa principal, contratista y subcontratista respecto de sus propios trabajadores en virtud de lo dispuesto en el artículo 184, la empresa principal deberá adoptar las medidas necesarias para proteger eficazmente la vida y salud de todos los trabajadores que laboran en su obra, empresa o faena, cualquiera sea su dependencia, en conformidad a lo dispuesto en el artículo 66 bis de la ley Nº 16.744 y el artículo 3º del decreto supremo Nº 594, de 1999, del Ministerio de Salud. | F7: Reglamento Especial para Empresas Contratistas y Subcontratistas | G7: Soporte Operativo | H7: 1 | M7: N/A
B8: 5 | C8: Ley 20.123 REGULA TRABAJO EN REGIMEN DE SUBCONTRATACION, EL FUNCIONAMIENTO DE LAS EMPRESAS DE SERVICIOS TRANSITORIOS Y EL CONTRATO DE TRABAJO DE SERVICIOS TRANSITORIOS | D8: Art. 183-N | E8: La puesta a disposición de trabajadores de servicios transitorios a una usuaria por una empresa de servicios transitorios, deberá constar por escrito en un contrato de puesta a disposición de trabajadores de servicios transitorios, que deberá indicar la causal invocada para la contratación de servicios transitorios de conformidad con el artículo siguiente, los puestos de trabajo para los cuales se realiza, la duración de la misma y el precio convenido. Asimismo, el contrato de puesta a disposición de trabajadores de servicios transitorios deberá señalar si los trabajadores puestos a disposición tendrán o no derecho, durante la vigencia de dicho contrato, a la utilización de transporte e instalaciones colectivas que existan en la usuaria. | F8: Reglamento Especial para Empresas Contratistas y Subcontratistas | G8: Soporte Operativo | H8: 1 | M8: N/A
B9: 6 | C9: Ley 20.123 REGULA TRABAJO EN REGIMEN DE SUBCONTRATACION, EL FUNCIONAMIENTO DE LAS EMPRESAS DE SERVICIOS TRANSITORIOS Y EL CONTRATO DE TRABAJO DE SERVICIOS TRANSITORIOS | D9: Art183-W | E9: Será obligación de la usuaria controlar la asistencia del trabajador de servicios transitorios y poner a disposición de la empresa de servicios transitorios copia del registro respectivo. En el registro se indicará, a lo menos, el nombre y apellido del trabajador de servicios transitorios, nombre o razón social y domicilio de la empresa de servicios transitorios y de la usuaria, y diariamente las horas de ingreso y salida del trabajador. | F9: Reglamento Especial para Empresas Contratistas y Subcontratistas | G9: Soporte Operativo | H9: 1 | M9: N/A
B10: 7 | C10: Ley 20.123 REGULA TRABAJO EN REGIMEN DE SUBCONTRATACION, EL FUNCIONAMIENTO DE LAS EMPRESAS DE SERVICIOS TRANSITORIOS Y EL CONTRATO DE TRABAJO DE SERVICIOS TRANSITORIOS | D10: Art. 183-X | E10: La usuaria tendrá la facultad de organizar y dirigir el trabajo, dentro del ámbito de las funciones para las cuales el trabajador fue puesto a su disposición por la empresa de servicios transitorios. Además, el trabajador de servicios transitorios quedará sujeto al reglamento de orden, seguridad e higiene de la usuaria, el que deberá ser puesto en su conocimiento mediante la entrega de un ejemplar impreso, en conformidad a lo dispuesto en el inciso segundo del artículo 156 de este Código. | F10: Reglamento Especial para Empresas Contratistas y Subcontratistas | G10: Soporte Operativo | H10: 1 | M10: N/A
B11: 8 | C11: Ley 20.123 REGULA TRABAJO EN REGIMEN DE SUBCONTRATACION, EL FUNCIONAMIENTO DE LAS EMPRESAS DE SERVICIOS TRANSITORIOS Y EL CONTRATO DE TRABAJO DE SERVICIOS TRANSITORIOS | D11: Art. 183-AA | E11: La usuaria que contrate a un trabajador de servicios transitorios por intermedio de empresas no inscritas en el registro que para tales efectos llevará la Dirección del Trabajo, quedará, respecto de dicho trabajador, excluida de la aplicación de las normas del presente Párrafo 2º. En consecuencia, el trabajador se considerará como dependiente de la usuaria, vínculo que se regirá por las normas de la legislación laboral común. Además, la usuaria será sancionada administrativamente por la Inspección del Trabajo respectiva, con una multa equivalente a 10 unidades tributarias mensuales por cada trabajador contratado. | F11: Reglamento Especial para Empresas Contratistas y Subcontratistas | G11: Soporte Operativo | H11: 1 | M11: N/A
B12: 9 | C12: Ley 20.123 REGULA TRABAJO EN REGIMEN DE SUBCONTRATACION, EL FUNCIONAMIENTO DE LAS EMPRESAS DE SERVICIOS TRANSITORIOS Y EL CONTRATO DE TRABAJO DE SERVICIOS TRANSITORIOS | D12: Art. 183-AB | E12: La usuaria será subsidiariamente responsable de las obligaciones laborales y previsionales que afecten a las empresas de servicios transitorios a favor de los trabajadores de éstas, en los términos previstos en este Párrafo. No obstante lo dispuesto en el inciso precedente, será de responsabilidad directa de la usuaria el cumplimiento de las normas referidas a la higiene y seguridad en el trabajo, incluidas las disposiciones legales y reglamentarias relativas al Seguro Social contra Riesgos de Accidentes del Trabajo y Enfermedades Profesionales de la ley Nº 16.744, especialmente las medidas de prevención de riesgos que deba adoptar respecto de sus trabajadores permanentes. Asimismo, deberá observar lo dispuesto en el inciso tercero del artículo 66 bis de la ley Nº 16.744. Para efectos de dar cumplimiento a lo dispuesto en el artículo 76 de la ley Nº 16.744, la usuaria denunciará inmediatamente al organismo administrador al que se encuentra afiliada o adherida la respectiva empresa de servicios transitorios, la ocurrencia de cualquiera de los hechos indicados en la norma legal antes citada. Al mismo tiempo, deberá notificar el siniestro a la empresa de servicios transitorios. Serán también de responsabilidad de la usuaria, las indemnizaciones a que se refiere el artículo 69 de la ley Nº 16.744. Sin perjuicio de lo anterior, la empresa de servicios transitorios deberá constatar que el estado de salud del trabajador sea compatible con la actividad específica que desempeñará. | F12: Reglamento Especial para Empresas Contratistas y Subcontratistas | G12: Soporte Operativo | H12: 1 | M12: N/A
B13: 10 | C13: Ley 20.123 REGULA TRABAJO EN REGIMEN DE SUBCONTRATACION, EL FUNCIONAMIENTO DE LAS EMPRESAS DE SERVICIOS TRANSITORIOS Y EL CONTRATO DE TRABAJO DE SERVICIOS TRANSITORIOS | D13: Art. 183- AC | E13: En el caso de los trabajadores con discapacidad, el plazo máximo de duración del contrato de puesta a disposición de trabajadores de servicios transitorios establecido en el párrafo segundo del inciso primero del artículo 183-O, será de seis meses renovables. | F13: Reglamento Especial para Empresas Contratistas y Subcontratistas | G13: Soporte Operativo | H13: 1 | M13: N/A
B14: 11 | C14: Ley 20.123 REGULA TRABAJO EN REGIMEN DE SUBCONTRATACION, EL FUNCIONAMIENTO DE LAS EMPRESAS DE SERVICIOS TRANSITORIOS Y EL CONTRATO DE TRABAJO DE SERVICIOS TRANSITORIOS | D14: Art. 183-AD | E14: Las empresas de servicios transitorios estarán obligadas a proporcionar capacitación cada año calendario, al menos al 10% de los trabajadores que pongan a disposición en el mismo período, a través de alguno de los mecanismos previstos en el Párrafo 4º del Título I de la ley Nº 19.518. La Dirección del Trabajo verificará el cumplimiento de la obligación establecida en este artículo. | F14: Reglamento Especial para Empresas Contratistas y Subcontratistas | G14: Soporte Operativo | H14: 1 | M14: N/A
B15: 12 | C15: Ley 20.123 REGULA TRABAJO EN REGIMEN DE SUBCONTRATACION, EL FUNCIONAMIENTO DE LAS EMPRESAS DE SERVICIOS TRANSITORIOS Y EL CONTRATO DE TRABAJO DE SERVICIOS TRANSITORIOS | D15: Art. 183-AE | E15: Las trabajadoras contratadas bajo el régimen contemplado en este Párrafo, gozarán del fuero maternal señalado en el inciso primero del artículo 201, cesando éste de pleno derecho al término de los servicios en la usuaria. Si por alguna de las causales que establece el presente Párrafo se determinare que la trabajadora es dependiente de la usuaria, el fuero maternal se extenderá por todo el período que corresponda, conforme a las reglas generales del presente Código”. | F15: Reglamento Especial para Empresas Contratistas y Subcontratistas | G15: Soporte Operativo | H15: 1 | M15: N/A
... B19: 16 | C19: Ley 20.123 REGULA TRABAJO EN REGIMEN DE SUBCONTRATACION, EL FUNCIONAMIENTO DE LAS EMPRESAS DE SERVICIOS TRANSITORIOS Y EL CONTRATO DE TRABAJO DE SERVICIOS TRANSITORIOS | D19: Art. 7º | E19: Modificase la ley Nº 16.744, de la siguiente forma: a) Incorporase a continuación del artículo 66, el siguiente artículo 66 bis:“Artículo 66 bis.- Los empleadores que contraten o subcontraten con otros la realización de una obra, faena o servicios propios de su giro, deberán vigilar el cumplimiento por parte de dichos contratistas o subcontratistas de la normativa relativa a higiene y seguridad, debiendo para ello implementar un sistema de gestión de la seguridad y salud en el trabajo para todos los trabajadores involucrados, cualquiera que sea su dependencia, cuando en su conjunto agrupen a más de 50 trabajadores. Para la implementación de este sistema de gestión, la empresa principal deberá confeccionar un reglamento especial para empresas contratistas y subcontratistas, en el que se establezca como mínimo las acciones de coordinación entre los distintos empleadores de las actividades preventivas, a fin de garantizar a todos los trabajadores condiciones de higiene y seguridad adecuadas. Asimismo, se contemplarán en dicho reglamento los mecanismos para verificar su cumplimiento por parte de la empresa mandante y las sanciones aplicables. Asimismo, corresponderá al mandante, velar por la constitución y funcionamiento de un Comité Paritario de Higiene y Seguridad y un Departamento de Prevención de Riesgos para tales faenas, aplicándose a su respecto para calcular el número de trabajadores exigidos por los incisos primero y cuarto, del artículo 66, respectivamente, la totalidad de los trabajadores que prestan servicios en un mismo lugar de trabajo, cualquiera sea su dependencia. Los requisitos para la constitución y funcionamiento de los mismos serán determinados por el reglamento que dictará el Ministerio del Trabajo y Previsión Social. Para la implementación de este sistema de gestión, la empresa principal deberá confeccionar un reglamento especial para empresas contratistas y subcontratistas, en el que se establezca como mínimo las acciones de coordinación entre los distintos empleadores de las actividades preventivas, a fin de garantizar a todos los trabajadores condiciones de higiene y seguridad adecuadas. Asimismo, se contemplarán en dicho reglamento los mecanismos para verificar su cumplimiento por parte de la empresa mandante y las sanciones aplicables. Asimismo, corresponderá al mandante, velar por la constitución y funcionamiento de un Comité Paritario de Higiene y Seguridad y un Departamento de Prevención de Riesgos para tales faenas, aplicándose a su respecto para calcular el número de trabajadores exigidos por los incisos primero y cuarto, del artículo 66, respectivamente, la totalidad de los trabajadores que prestan servicios en un mismo lugar de trabajo, cualquiera sea su dependencia. Los requisitos para la constitución y funcionamiento de los mismos serán determinados por el reglamento que dictará el Ministerio del Trabajo y Previsión Social. Artículo primero transitorio.- Las empresas que a la fecha de publicación de la presente ley, desarrollen actividades reguladas por la misma, deberán presentar su solicitud de inscripción, dentro del plazo de 180 días a contar de su vigencia. Artículo segundo transitorio.- Esta ley entrará en vigencia 90 días después de la fecha de su publicación.”. Habiéndose cumplido con lo establecido en el Nº 1º del Artículo 93 de la Constitución Política de la República y por cuanto he tenido a bien aprobarlo y sancionarlo; por tanto promúlguese y llévese a efecto como Ley de la República. | F19: Reglamento Especial para Empresas Contratistas y Subcontratistas | G19: Soporte Operativo | H19: 1 | M19: N/A
F20: Porcentaje total de cumplimiento | H20: =AVERAGE(H4:H19) -> 1

Sheet Ley 20.105
B3: Ítem | C3: Normativa /Titulo | D3: Art. Aplicable | E3: Descripción | F3: Evidencia Cumplimiento | G3: Responsable de Cumplimiento | H3: Resultado de evaluación No Cumple 0% Cumple 100% En implementación 50% | I3: Brecha Evidenciada | J3: Plan de Acción de Brechas de Incumplimiento | K3: Responsable | L3: Plazo | M3: Resultado de evaluación No Cumple 0% Cumple 100% En implementación 50% | N3: Nueva acción Correctiva
B4: 1 | C4: Ley 20.105 "MODIFICA LA LEY Nº 19.419, EN MATERIAS RELATIVAS A LA PUBLICIDAD Y EL CONSUMO DEL TABACO" | D4: Art. 10 | E4: Se prohíbe fumar en los siguientes lugares, incluyendo sus patios y espacios al aire libre interiores: a) establecimientos de educación pre básica, básica y media; b) recintos donde se expenda combustibles; c) aquéllos en que se fabriquen, procesen, depositen o manipulen explosivos, materiales inflamables, medicamentos o alimentos; d) medios de transporte de uso público o colectivo; e) ascensores. | F4: RIOHS | G4: Operación | H4: 1 | M4: N/A
F7: Porcentaje total de cumplimiento | H7: 1

Sheet Ley 20.096
B3: Ítem | C3: Normativa /Titulo | D3: Art. Aplicable | E3: Descripción | F3: Evidencia Cumplimiento | G3: Responsable de Cumplimiento | H3: Resultado de evaluación No Cumple 0% Cumple 100% En implementación 50% | I3: Brecha Evidenciada | J3: Plan de Acción de Brechas de Incumplimiento | K3: Responsable | L3: Plazo | M3: Resultado de evaluación No Cumple 0% Cumple 100% En implementación 50% | N3: Nueva acción Correctiva
B4: 1 | C4: Ley 20.096 ESTABLECE MEC. DE CONTROL APLICABLES A LAS SUST. AGOTADORAS DE LA CAPA DE OZONO | D4: Art. 19° | E4: Sin perjuicio de las obligaciones establecidas en los artículos 184 del Código del Trabajo y 67 de la ley Nº 16.744, los empleadores deberán adoptar las medidas necesarias para proteger eficazmente a los trabajadores cuando puedan estar expuestos a radiación ultravioleta. Para estos efectos, los contratos de trabajo o reglamentos internos de las empresas, según el caso, deberán especificar el uso de los elementos protectores correspondientes, de conformidad con las disposiciones del Reglamento sobre Condiciones Sanitarias y Ambientales Básicas en los Lugares de Trabajo. | F4: RIOHS Dispensadores de agua Aplicación protocolo Uva Entrega de protector solar Legionarios Gafas para sol | G4: PREVENCION DE RIESGOS | H4: 1 | M4: N/A
B5: 2 | C5: Ley 20.096 ESTABLECE MEC. DE CONTROL APLICABLES A LAS SUST. AGOTADORAS DE LA CAPA DE OZONO | D5: Art. 21° | E5: Los bloqueadores, anteojos y otros dispositivos o productos protectores de la quemadura solar, deberán llevar indicaciones que señalen el factor de protección relativo a la equivalencia del tiempo de exposición a la radiación ultravioleta sin protector, indicando su efectividad ante diferentes grados de deterioro de la capa de ozono. Corresponderá al Servicio Nacional del Consumidor velar por el cumplimiento de la obligación establecida en este artículo, y su infracción será sancionada conforme a la ley N° 19.496, sobre Protección de los Derechos de los Consumidores. | F5: RIOHS Dispensadores de agua Aplicación protocolo Uva Entrega de protector solar Legionarios Gafas para sol | G5: PREVENCION DE RIESGOS | H5: 1 | M5: N/A
F6: Porcentaje total de cumplimiento | H6: =AVERAGE(H4:H5) -> 1

Sheet Ley 20.005
B3: Ítem | C3: Normativa /Titulo | D3: Art. Aplicable | E3: Descripción | F3: Evidencia Cumplimiento | G3: Responsable de Cumplimiento | H3: Resultado de evaluación No Cumple 0% Cumple 100% En implementación 50% | I3: Brecha Evidenciada | J3: Plan de Acción de Brechas de Incumplimiento | K3: Responsable | L3: Plazo | M3: Resultado de evaluación No Cumple 0% Cumple 100% En implementación 50% | N3: Nueva acción Correctiva
B4: 1 | C4: Ley 20.005 Tipifica y sanciona el acoso sexual | D4: Art. 2 | E4: Las relaciones laborales deberán siempre fundarse en un trato compatible con la dignidad de la persona. Es contrario a ella, entre otras conductas, el acoso sexual, entendiéndose por tal el que una persona realice en forma indebida, por cualquier medio, requerimientos de carácter sexual, no consentidos por quien los recibe y que amenacen o perjudiquen su situación laboral o sus oportunidades en el empleo. | F4: RIOHS Y CÓDIGO DE ÉTICA | G4: RRHH | H4: 1 | M4: N/A
B5: 2 | C5: Ley 20.005 Tipifica y sanciona el acoso sexual | D5: Art. 153 | E5: Especialmente, se deberán estipular las normas que se deben observar para garantizar un ambiente laboral digno y de mutuo respeto entre los trabajadores. | F5: RIOHS Y CÓDIGO DE ÉTICA | G5: RRHH | H5: 1 | M5: N/A
B6: 3 | C6: Ley 20.005 Tipifica y sanciona el acoso sexual | D6: Art. 211 A | E6: En caso de acoso sexual, la persona afectada deberá hacer llegar su reclamo por escrito a la dirección de la empresa, establecimiento o servicio o a la respectiva Inspección del Trabajo. | F6: RIOHS Y CÓDIGO DE ÉTICA | G6: RRHH | H6: 1 | M6: N/A
B7: 4 | C7: Ley 20.005 Tipifica y sanciona el acoso sexual | D7: Art. 211 B | E7: Recibida la denuncia, el empleador deberá adoptar las medidas de resguardo necesarias respecto de los involucrados, tales como la separación de los espacios físicos o la redistribución del tiempo de jornada, considerando la gravedad de los hechos imputados y las posibilidades derivadas de las condiciones de trabajo. En caso que la denuncia sea realizada ante la Inspección del Trabajo, ésta sugerirá a la brevedad la adopción de aquellas medidas al empleador. | F7: RIOHS Y CÓDIGO DE ÉTICA | G7: RRHH | H7: 1 | M7: N/A
B8: 5 | C8: Ley 20.005 Tipifica y sanciona el acoso sexual | D8: Art. 211 C | E8: El empleador dispondrá la realización de una investigación interna de los hechos o, en el plazo de cinco días, remitirá los antecedentes a la Inspección del Trabajo respectiva. En cualquier caso la investigación deberá concluirse en el plazo de treinta días. Si se optare por una investigación interna, ésta deberá constar por escrito, ser llevada en estricta reserva, garantizando que ambas partes sean oídas y puedan fundamentar sus dichos, y las conclusiones deberán enviarse a la Inspección del Trabajo respectiva. | F8: RIOHS Y CÓDIGO DE ÉTICA | G8: RRHH | H8: 1 | M8: N/A
B9: 6 | C9: Ley 20.005 Tipifica y sanciona el acoso sexual | D9: Art. 211 D | E9: Las conclusiones de la investigación realizada por la Inspección del Trabajo o las observaciones de ésta a aquélla practicada en forma interna, serán puestas en conocimiento del empleador, el denunciante y el denunciado | F9: RIOHS Y CÓDIGO DE ÉTICA | G9: RRHH | H9: 1 | M9: N/A
B10: 7 | C10: Ley 20.005 Tipifica y sanciona el acoso sexual | D10: Art. 211 E | E10: En conformidad al mérito del informe, el empleador deberá, dentro de los siguientes quince días, contados desde la recepción del mismo, disponer y aplicar las medidas o sanciones que correspondan. | F10: RIOHS Y CÓDIGO DE ÉTICA | G10: RRHH | H10: 1 | M10: N/A
F11: Porcentaje total de cumplimiento | H11: =AVERAGE(H4:H10) -> 1

Sheet Ley 19.518
B3: Ítem | C3: Normativa /Titulo | D3: Art. Aplicable | E3: Descripción | F3: Evidencia Cumplimiento | G3: Responsable de Cumplimiento | H3: Resultado de evaluación No Cumple 0% Cumple 100% En implementación 50% | I3: Brecha Evidenciada | J3: Plan de Acción de Brechas de Incumplimiento | K3: Responsable | L3: Plazo | M3: Resultado de evaluación No Cumple 0% Cumple 100% En implementación 50% | N3: Nueva acción Correctiva
B4: 1 | C4: Ley 19.518 Fija nuevos estatutos de capacitación y empleos | D4: Art. 13 | E4: Las empresas podrán constituir un comité bipartito de capacitación. Ello será obligatorio en aquellas empresas cuya dotación de personal sea igual o superior a 15 trabajadores. Las funciones del comité serán acordar y evaluar el o los programas de capacitación ocupacional de la empresa, así como asesorar a la dirección de la misma en materias de capacitación. | F4: Funcionamiento de Comité Bipartito de capacitación Ocupacional | G4: RRHH | H4: 0 | I4: Funcionamiento de Comité Bipartito de capacitación Ocupacional | J4: Obtener acta de constitución | K4: RRHH | L4: 45839 | M4: 0
B5: 2 | C5: Ley 19.518 Fija nuevos estatutos de capacitación y empleos | D5: Art. 15 | E5: El programa de capacitación contendrá a lo menos las siguientes menciones: a) las áreas de la empresa para las cuales se desarrollarán ac­tividades de capacitación, y el objetivo de dichas actividades. b) el número y características de los trabajadores que partici­parán en las actividades de capacitación, y c) la época del año en que se ejecutarán las referidas acciones. | F5: Programa de capacitación | G5: RRHH | H5: 0 | I5: Programa de capacitación | J5: Obtener Programa de capacitación | K5: RRHH | L5: 45839 | M5: 0
B6: 3 | C6: Ley 19.518 Fija nuevos estatutos de capacitación y empleos | D6: Art. 16 | E6: El comité bipartito estará constituido por tres representantes del empleador y tres de los trabajadores. El comité se reunirá a requerimiento de a lo menos cuatro de sus integrantes. El comité adoptará sus decisiones con el acuerdo de la mayoría de los representantes de ambos estamentos, y se formali­zarán para los efectos del artículo 14 de esta ley en un programa de capacitación. | F6: Registro de constitución de comité bipartito | G6: RRHH | H6: 0 | I6: Registro de constitución de comité bipartito | J6: Obtener Registro de constitución de comité bipartito | K6: RRHH | L6: 45839 | M6: 0
